BEGIN:VCALENDAR
VERSION:2.0
PRODID:-//OPCI - ECPv6.15.20//NONSGML v1.0//EN
CALSCALE:GREGORIAN
METHOD:PUBLISH
X-ORIGINAL-URL:https://opci.live
X-WR-CALDESC:Events for OPCI
REFRESH-INTERVAL;VALUE=DURATION:PT1H
X-Robots-Tag:noindex
X-PUBLISHED-TTL:PT1H
BEGIN:VTIMEZONE
TZID:America/Chicago
BEGIN:DAYLIGHT
TZOFFSETFROM:-0600
TZOFFSETTO:-0500
TZNAME:CDT
DTSTART:20230312T080000
END:DAYLIGHT
BEGIN:STANDARD
TZOFFSETFROM:-0500
TZOFFSETTO:-0600
TZNAME:CST
DTSTART:20231105T070000
END:STANDARD
BEGIN:DAYLIGHT
TZOFFSETFROM:-0600
TZOFFSETTO:-0500
TZNAME:CDT
DTSTART:20240310T080000
END:DAYLIGHT
BEGIN:STANDARD
TZOFFSETFROM:-0500
TZOFFSETTO:-0600
TZNAME:CST
DTSTART:20241103T070000
END:STANDARD
BEGIN:DAYLIGHT
TZOFFSETFROM:-0600
TZOFFSETTO:-0500
TZNAME:CDT
DTSTART:20250309T080000
END:DAYLIGHT
BEGIN:STANDARD
TZOFFSETFROM:-0500
TZOFFSETTO:-0600
TZNAME:CST
DTSTART:20251102T070000
END:STANDARD
END:VTIMEZONE
BEGIN:VEVENT
DTSTART;VALUE=DATE:20241214
DTEND;VALUE=DATE:20241215
DTSTAMP:20260423T034601
CREATED:20240705T232901Z
LAST-MODIFIED:20241006T010522Z
UID:7335-1734134400-1734220799@opci.live
SUMMARY:OPCI Nashville: Hands-On Workshop
DESCRIPTION:Designed to elevate the complex PCI skills of interventional cardiologists and fellows in the Mid-South region of the United States and greater Nashville area\, this groundbreaking educational initiative will feature a combination of didactic lectures and hands-on training simulations. \nYou will have the opportunity to visit multiple workstations throughout the day\, based on your existing experience and interest in learning about innovative platforms for imaging\, physiology\, and lesion modification in the treatment of complex lesions. \nLearn more here.
URL:https://opci.live/event/opci-nashville-hands-on-workshop/
CATEGORIES:In-Person Events
ATTACH;FMTTYPE=image/jpeg:https://opci.live/wp-content/uploads/OPCI-Michigan_-Hands-On-Imaging-Workshop-2.jpg
END:VEVENT
END:VCALENDAR