BEGIN:VCALENDAR
VERSION:2.0
PRODID:-//OPCI - ECPv6.15.20//NONSGML v1.0//EN
CALSCALE:GREGORIAN
METHOD:PUBLISH
X-ORIGINAL-URL:https://opci.live
X-WR-CALDESC:Events for OPCI
REFRESH-INTERVAL;VALUE=DURATION:PT1H
X-Robots-Tag:noindex
X-PUBLISHED-TTL:PT1H
BEGIN:VTIMEZONE
TZID:America/New_York
BEGIN:DAYLIGHT
TZOFFSETFROM:-0500
TZOFFSETTO:-0400
TZNAME:EDT
DTSTART:20250309T070000
END:DAYLIGHT
BEGIN:STANDARD
TZOFFSETFROM:-0400
TZOFFSETTO:-0500
TZNAME:EST
DTSTART:20251102T060000
END:STANDARD
BEGIN:DAYLIGHT
TZOFFSETFROM:-0500
TZOFFSETTO:-0400
TZNAME:EDT
DTSTART:20260308T070000
END:DAYLIGHT
BEGIN:STANDARD
TZOFFSETFROM:-0400
TZOFFSETTO:-0500
TZNAME:EST
DTSTART:20261101T060000
END:STANDARD
BEGIN:DAYLIGHT
TZOFFSETFROM:-0500
TZOFFSETTO:-0400
TZNAME:EDT
DTSTART:20270314T070000
END:DAYLIGHT
BEGIN:STANDARD
TZOFFSETFROM:-0400
TZOFFSETTO:-0500
TZNAME:EST
DTSTART:20271107T060000
END:STANDARD
END:VTIMEZONE
BEGIN:VEVENT
DTSTART;VALUE=DATE:20260529
DTEND;VALUE=DATE:20260531
DTSTAMP:20260424T082246
CREATED:20251205T000328Z
LAST-MODIFIED:20260206T193251Z
UID:9552-1780012800-1780185599@opci.live
SUMMARY:OPCI New York 2026
DESCRIPTION:The OPCI New York Conference 2026 is a premier two-day summit featuring a Coronary Think Tank and Structural Think Tank\, delivering an exceptional and multidimensional educational experience. As the flagship event of OPCI\, this conference convenes leading physicians\, innovators\, industry partners\, investors\, and venture capital leaders from around the world. Together\, we will explore the evolving landscape of interventional cardiology\, examine future pathways\, and address the clinical\, technological\, and operational challenges that will shape the next decade of cardiovascular care. \nLearn more here.
URL:https://opci.live/event/opci-new-york-2026/
CATEGORIES:In-Person Events
ATTACH;FMTTYPE=image/jpeg:https://opci.live/wp-content/uploads/OPCI-NY-Save-the-Date-2026-v3.jpg
END:VEVENT
BEGIN:VEVENT
DTSTART;TZID=America/New_York:20260608T070000
DTEND;TZID=America/New_York:20260608T150000
DTSTAMP:20260424T082246
CREATED:20251206T052458Z
LAST-MODIFIED:20251206T053654Z
UID:9593-1780902000-1780930800@opci.live
SUMMARY:Abbott-OPCI Proctorship Course
DESCRIPTION:OPCI invites you to apply for our exclusive\, in-person course taking place on Monday\, June 8 from 7am – 3pm at St. Francis Hospital & Heart Center\, presented in collaboration with Abbott* \nSpace is limited and restricted to U.S. and Canadian practicing interventional cardiologists with imaging experience. Attendance is not guaranteed; you must meet certain prerequisites to qualify for attendance. \nApply here. \n\n\n*Accepted applicants will be expected to attend a working dinner on Sunday\, June 7 6:30pm – 9:30pm. 
URL:https://opci.live/event/abbott-opci-proctorship-course/
CATEGORIES:Proctorships
ATTACH;FMTTYPE=image/png:https://opci.live/wp-content/uploads/Abbott-June.png
END:VEVENT
BEGIN:VEVENT
DTSTART;TZID=America/New_York:20260615T070000
DTEND;TZID=America/New_York:20260615T150000
DTSTAMP:20260424T082246
CREATED:20251206T051949Z
LAST-MODIFIED:20251206T053738Z
UID:9585-1781506800-1781535600@opci.live
SUMMARY:Shockwave-OPCI Proctorship Course
DESCRIPTION:OPCI invites you to apply for our exclusive\, in-person course taking place on Monday\, June 15 from 7am – 3pm at St. Francis Hospital & Heart Center\, presented in collaboration with Shockwave* \nSpace is limited and restricted to U.S. and Canadian practicing interventional cardiologists with imaging experience. Attendance is not guaranteed; you must meet certain prerequisites to qualify for attendance. \nApply here. \n\n\n*Accepted applicants will be expected to attend a working dinner on Sunday\, June 14 6:30pm – 9:30pm. 
URL:https://opci.live/event/shockwave-opci-proctorship-course-2/
CATEGORIES:Proctorships
ATTACH;FMTTYPE=image/png:https://opci.live/wp-content/uploads/Shockwave-June.png
END:VEVENT
BEGIN:VEVENT
DTSTART;TZID=America/New_York:20260713T070000
DTEND;TZID=America/New_York:20260713T150000
DTSTAMP:20260424T082246
CREATED:20251206T052630Z
LAST-MODIFIED:20251206T053802Z
UID:9597-1783926000-1783954800@opci.live
SUMMARY:Abbott-OPCI Proctorship Course
DESCRIPTION:OPCI invites you to apply for our exclusive\, in-person course taking place on Monday\, July 13 from 7am – 3pm at St. Francis Hospital & Heart Center\, presented in collaboration with Abbott* \nSpace is limited and restricted to U.S. and Canadian practicing interventional cardiologists with imaging experience. Attendance is not guaranteed; you must meet certain prerequisites to qualify for attendance. \nApply here. \n\n\n*Accepted applicants will be expected to attend a working dinner on Sunday\, July 12 6:30pm – 9:30pm. 
URL:https://opci.live/event/abbott-opci-proctorship-course-2/
CATEGORIES:Proctorships
ATTACH;FMTTYPE=image/png:https://opci.live/wp-content/uploads/Abbott-July.png
END:VEVENT
BEGIN:VEVENT
DTSTART;VALUE=DATE:20260926
DTEND;VALUE=DATE:20260927
DTSTAMP:20260424T082246
CREATED:20260206T200812Z
LAST-MODIFIED:20260206T200812Z
UID:9702-1790380800-1790467199@opci.live
SUMMARY:OPCI Nashville: Hands-On Workshop
DESCRIPTION:Designed to elevate the complex PCI skills of interventional cardiologists and fellows in the Mid-South region of the United States and greater Nashville area\, this groundbreaking educational initiative will feature a combination of didactic lectures and hands-on training simulations. \nYou will have the opportunity to visit multiple workstations throughout the day\, based on your existing experience and interest in learning about innovative platforms for imaging\, physiology\, and lesion modification in the treatment of complex lesions. \nSave the date\, and more information coming soon!
URL:https://opci.live/event/opci-nashville-hands-on-workshop-2/
CATEGORIES:In-Person Events
ATTACH;FMTTYPE=image/png:https://opci.live/wp-content/uploads/documents/opci-manager/directors/pictures/picture_20250305213517_47b6c3ea29804c1efb95d81a6eae2305.png
END:VEVENT
BEGIN:VEVENT
DTSTART;TZID=America/New_York:20260928T070000
DTEND;TZID=America/New_York:20260928T150000
DTSTAMP:20260424T082246
CREATED:20251206T052748Z
LAST-MODIFIED:20251206T053832Z
UID:9601-1790578800-1790607600@opci.live
SUMMARY:Abbott-OPCI Proctorship Course
DESCRIPTION:OPCI invites you to apply for our exclusive\, in-person course taking place on Monday\, September 28 from 7am – 3pm at St. Francis Hospital & Heart Center\, presented in collaboration with Abbott* \nSpace is limited and restricted to U.S. and Canadian practicing interventional cardiologists with imaging experience. Attendance is not guaranteed; you must meet certain prerequisites to qualify for attendance. \nApply here. \n\n\n*Accepted applicants will be expected to attend a working dinner on Sunday\, September 27 6:30pm – 9:30pm. 
URL:https://opci.live/event/abbott-opci-proctorship-course-3/
CATEGORIES:Proctorships
ATTACH;FMTTYPE=image/png:https://opci.live/wp-content/uploads/Abbott-September.png
END:VEVENT
BEGIN:VEVENT
DTSTART;TZID=America/New_York:20261116T070000
DTEND;TZID=America/New_York:20261116T150000
DTSTAMP:20260424T082246
CREATED:20251206T051820Z
LAST-MODIFIED:20251206T053906Z
UID:9581-1794812400-1794841200@opci.live
SUMMARY:Shockwave-OPCI Proctorship Course
DESCRIPTION:OPCI invites you to apply for our exclusive\, in-person course taking place on Monday\, November 16 from 7am – 3pm at St. Francis Hospital & Heart Center\, presented in collaboration with Shockwave* \nSpace is limited and restricted to U.S. and Canadian practicing interventional cardiologists with imaging experience. Attendance is not guaranteed; you must meet certain prerequisites to qualify for attendance. \nApply here. \n\n\n*Accepted applicants will be expected to attend a working dinner on Sunday\, November 15 6:30pm – 9:30pm. 
URL:https://opci.live/event/shockwave-opci-proctorship-course/
CATEGORIES:Proctorships
ATTACH;FMTTYPE=image/png:https://opci.live/wp-content/uploads/Shockwave-November.png
END:VEVENT
BEGIN:VEVENT
DTSTART;VALUE=DATE:20261121
DTEND;VALUE=DATE:20261122
DTSTAMP:20260424T082246
CREATED:20260206T200316Z
LAST-MODIFIED:20260206T200316Z
UID:9699-1795219200-1795305599@opci.live
SUMMARY:OPCI Michigan: Hands-On Workshop
DESCRIPTION:We are pleased to announce OPCI Michigan Hands-On Workshop geared towards practicing interventional cardiologists and fellows.  \nSave the date\, and more information to follow!
URL:https://opci.live/event/opci-michigan-hands-on-workshop-2/
CATEGORIES:In-Person Events
ATTACH;FMTTYPE=image/png:https://opci.live/wp-content/uploads/documents/opci-manager/directors/pictures/picture_20251224203937_479fdd41bffe9f569753fbf31414b29d.png
END:VEVENT
BEGIN:VEVENT
DTSTART;TZID=America/New_York:20261207T070000
DTEND;TZID=America/New_York:20261207T150000
DTSTAMP:20260424T082246
CREATED:20251206T051412Z
LAST-MODIFIED:20251206T053932Z
UID:9564-1796626800-1796655600@opci.live
SUMMARY:Philips-OPCI Proctorship Course
DESCRIPTION:OPCI invites you to apply for our exclusive\, in-person course taking place on Monday\, December 7 from 7am – 3pm at St. Francis Hospital & Heart Center\, presented in collaboration with Philips* \nSpace is limited and restricted to U.S. and Canadian practicing interventional cardiologists with imaging experience. Attendance is not guaranteed; you must meet certain prerequisites to qualify for attendance. \nApply here. \n\n\n*Accepted applicants will be expected to attend a working dinner on Sunday\, December 6th from 6:30pm – 9:30pm. 
URL:https://opci.live/event/philips-opci-proctorship-course/
CATEGORIES:Proctorships
ATTACH;FMTTYPE=image/png:https://opci.live/wp-content/uploads/Philips-December.png
END:VEVENT
END:VCALENDAR