BEGIN:VCALENDAR
VERSION:2.0
PRODID:-//OPCI - ECPv6.15.20//NONSGML v1.0//EN
CALSCALE:GREGORIAN
METHOD:PUBLISH
X-WR-CALNAME:OPCI
X-ORIGINAL-URL:https://opci.live
X-WR-CALDESC:Events for OPCI
REFRESH-INTERVAL;VALUE=DURATION:PT1H
X-Robots-Tag:noindex
X-PUBLISHED-TTL:PT1H
BEGIN:VTIMEZONE
TZID:America/New_York
BEGIN:DAYLIGHT
TZOFFSETFROM:-0500
TZOFFSETTO:-0400
TZNAME:EDT
DTSTART:20250309T070000
END:DAYLIGHT
BEGIN:STANDARD
TZOFFSETFROM:-0400
TZOFFSETTO:-0500
TZNAME:EST
DTSTART:20251102T060000
END:STANDARD
BEGIN:DAYLIGHT
TZOFFSETFROM:-0500
TZOFFSETTO:-0400
TZNAME:EDT
DTSTART:20260308T070000
END:DAYLIGHT
BEGIN:STANDARD
TZOFFSETFROM:-0400
TZOFFSETTO:-0500
TZNAME:EST
DTSTART:20261101T060000
END:STANDARD
BEGIN:DAYLIGHT
TZOFFSETFROM:-0500
TZOFFSETTO:-0400
TZNAME:EDT
DTSTART:20270314T070000
END:DAYLIGHT
BEGIN:STANDARD
TZOFFSETFROM:-0400
TZOFFSETTO:-0500
TZNAME:EST
DTSTART:20271107T060000
END:STANDARD
END:VTIMEZONE
BEGIN:VEVENT
DTSTART;TZID=America/New_York:20260116T070000
DTEND;TZID=America/New_York:20260117T170000
DTSTAMP:20260424T232357
CREATED:20251007T021731Z
LAST-MODIFIED:20251007T021818Z
UID:9433-1768546800-1768669200@opci.live
SUMMARY:Complications Summit 2026
DESCRIPTION:OPCI invites interventional cardiologists\, imagers\, cardiothoracic surgeons\, and fellows to join us for the 2nd annual OPCI Structural Complications Summit 2026. \nAt this 1.5 day Summit\, our distinguished faculty will share their complications and\, together\, we will build best practices on how to avoid and manage them as well as explore opportunities for innovation. Through hands-on stations\, attendees will put in practice what they learn in the case-based sessions. We will also explore the emotional toll complications have and how to cope and learn from these events. \nLearn more here.
URL:https://opci.live/event/complications-summit-2026/
CATEGORIES:In-Person Events
ATTACH;FMTTYPE=image/png:https://opci.live/wp-content/uploads/Complications-Summit-2026.png
END:VEVENT
END:VCALENDAR